BEGIN:VCALENDAR
VERSION:2.0
PRODID:-//hacksw/handcal//NONSGML v1.0//EN
BEGIN:VEVENT
DTSTART:20260509
DTEND:20260510
LOCATION:Kembs
SUMMARY:Match historique de badminton
URL:https://www.kembs.fr/Agenda/Match-historique-badminton-00945.html
END:VEVENT
END:VCALENDAR